BEGIN:VCALENDAR
VERSION:2.0
PRODID:-//eventon.com NONSGML v1.0//EN
CALSCALE:GREGORIAN
METHOD:PUBLISH
BEGIN:VEVENT
UID:69e51bc8dad63
DTSTAMP:20260419T181536Z
DTSTART:20260301T180000Z
DTEND:20260301T225000Z
LOCATION:
SUMMARY:Cartable
DESCRIPTION:Cartable\nhttps://cietoujoursla.com/events/cartable-14/
URL:https://cietoujoursla.com/events/cartable-14/
END:VEVENT
END:VCALENDAR